BEGIN:VCALENDAR
PRODID:-//AT Content Types//AT Event//EN
VERSION:1.0
BEGIN:VEVENT
DTSTART:20190704T095000Z
DTEND:20190704T095000Z
DCREATED:20190204T104909Z
UID:ATEvent-b1efb00b6e794374885309e1ea081269
SEQUENCE:0
LAST-MODIFIED:20190520T085942Z
SUMMARY:Fin de la classe
PRIORITY:3
TRANSP:0
END:VEVENT
END:VCALENDAR
