BEGIN:VCALENDAR
PRODID:-//AT Content Types//AT Event//EN
VERSION:2.0
METHOD:PUBLISH
BEGIN:VEVENT
DTSTAMP:20260421T070509Z
CREATED:20190601T050032Z
UID:ATEvent-150ca330e1ea49feba7d115358789cb4
LAST-MODIFIED:20190713T070449Z
SUMMARY:Portes ouvertes
DTSTART:20191116T080000Z
DTEND:20191116T110000Z
DESCRIPTION:Lors de cette matinée\, toute l'équipe vous accueillera 
 à l'école pour vous présenter les lieux\, ses projets et répondre 
 à vos questions. Nous vous attendons nombreux !
CLASS:PUBLIC
END:VEVENT
END:VCALENDAR
