BEGIN:VCALENDAR
PRODID:-//AT Content Types//AT Event//EN
VERSION:2.0
METHOD:PUBLISH
BEGIN:VEVENT
DTSTAMP:20260420T090214Z
CREATED:20250703T141248Z
UID:ATEvent-bd77bb9989ce4bd18601c118d6312afa
LAST-MODIFIED:20250703T141254Z
SUMMARY:PORTES OUVERTES de l'Ecole Louis Querbes
DTSTART:20251115T080000Z
DTEND:20251115T110000Z
LOCATION:Ecole Louis Querbes
CLASS:PUBLIC
END:VEVENT
END:VCALENDAR
